BEGIN:VCALENDAR
VERSION:2.0
PRODID:-//ChamberMaster//Event Calendar 2.0//EN
METHOD:PUBLISH
X-PUBLISHED-TTL:P3D
REFRESH-INTERVAL:P3D
CALSCALE:GREGORIAN
BEGIN:VEVENT
DTSTART:20230914T174500Z
DTEND:20230914T191500Z
X-MICROSOFT-CDO-ALLDAYEVENT:FALSE
SUMMARY:Lunch n' Learn with William Joseph
DESCRIPTION:Join CEO\, Ryan Townend\, to discover the "Art and Science of Building a Brand and Marketing Program that Drives Results" \n\n \n\nTopics addressed include:\n\n	The importance of primary and secondary research in your marketing\n	How to build a written and visual brand\n	Creating a marketing tactical plan that drives results.\n	How to measure success\n	The role of AI in marketing\n	Real life examples\n\nSession is perfect for business owners and marketing managers wanting to drive more results from their marketing.
X-ALT-DESC;FMTTYPE=text/html:<span style="font-size:11.0pt\;">Join CEO\, Ryan Townend\, to discover the &quot\;<strong>Art and Science of Building a Brand and Marketing Program that Drives Results&quot\;&nbsp\;</strong></span><br />\n&nbsp\;<br />\n<span style="font-size:11.0pt\;">Topics addressed include:</span>\n<ul>\n	<li style="margin-left:0cm\;"><span style="font-size:11.0pt\;">The importance of primary and secondary research in your marketing</span></li>\n	<li style="margin-left:0cm\;"><span style="font-size:11.0pt\;">How to build a written and visual brand</span></li>\n	<li style="margin-left:0cm\;"><span style="font-size:11.0pt\;">Creating a marketing tactical plan that drives results.</span></li>\n	<li style="margin-left:0cm\;"><span style="font-size:11.0pt\;">How to measure success</span></li>\n	<li style="margin-left:0cm\;"><span style="font-size:11.0pt\;">The role of AI in marketing</span></li>\n	<li style="margin-left:0cm\;"><span style="font-size:11.0pt\;">Real life examples</span></li>\n</ul>\n<span style="font-size:11.0pt\;">Session is perfect for business owners and marketing managers wanting to drive more results from their marketing.&nbsp\; </span>
LOCATION:JA Room Chamber Office 3017 Gaetz Avenue
UID:e.2585.341
SEQUENCE:3
DTSTAMP:20260420T015549Z
URL:https://business.reddeerchamber.com/events/details/lunch-n-learn-with-william-joseph-341
END:VEVENT

END:VCALENDAR
