BEGIN:VCALENDAR
VERSION:2.0
PRODID:-//ChamberMaster//Event Calendar 2.0//EN
METHOD:PUBLISH
X-PUBLISHED-TTL:P3D
REFRESH-INTERVAL:P3D
CALSCALE:GREGORIAN
BEGIN:VEVENT
DTSTART:20240917T140000Z
DTEND:20240917T223000Z
X-MICROSOFT-CDO-ALLDAYEVENT:FALSE
SUMMARY:Women Leading Change 2024
DESCRIPTION:The Power of Connection\nThis one day of professional development event will feature: amazing speakers\, workshops and networking for women in business. Plus some amazing food.\n\n\n\nWe will have a variety of workshops & speakers on relevant topics facing women in the workplace today.\n\nSpeakers include:\n\nChau Lui - Paris Jewellers\n\nLaura Didyk - Senior VP Prairies - BDC\n\nWorkshops on:\n - Financial Planning\n\n- HR essentials\n\n- Communications\n\n- Estate Planning\n\n- Managing Stress & Work Life Balance\n\n- The Importance of Social Media/Strategy \n\n- AI\, Apps & Beyond: Digital Toolkit for Success\n\n- Accounting/Taxes\n\n- Business Strategies/Organizational Change\n\n- Leadership\n\n- Menopause in the Workplace\n\n- Real Estate\n\n- IP - Intellectual Property\n\n\n\nPlus more workshops being added.\n\n\n\nAnd new this year - a lifestyle/wellness tent with The Bra Lounge\, Three Broke Sisters & Prairie Soap Shack.\n\n\n\nAs well\, there will be a reception after with cocktail/mocktail sampling and stellar networking opportunities.\n\n\n\nRegistration is open - we can't wait to welcome you to to this event.
X-ALT-DESC;FMTTYPE=text/html:<span style="font-size:20px\;"><span background-color:="" font-size:="" style="color: rgb(51\, 51\, 51)\; background-color: rgb(255\, 255\, 255)\; font-family: arial\;" trebuchet=""><strong>The Power of Connection</strong></span></span>\n<p data-pm-slice="1 1 []"><span style="font-size:14px\;"><span style="font-family:arial\;">This one day of professional development event will feature:&nbsp\;amazing speakers\, workshops and networking for women in business. Plus some amazing food.<br />\n<br />\nWe will have a variety of workshops &amp\; speakers on relevant topics facing women in the workplace today.</span></span></p>\n\n<p><span style="font-size:14px\;"><span style="font-family:arial\;">Speakers include:</span></span></p>\n\n<p><span style="font-size:14px\;"><span style="font-family:arial\;">Chau Lui - Paris Jewellers</span></span></p>\n\n<p><span style="font-size:14px\;"><span style="font-family:arial\;">Laura Didyk - Senior VP Prairies - BDC</span></span></p>\n\n<p><span style="font-family: arial\; font-size: 14px\;"><strong>Workshops on</strong>:</span></p>\n<span style="font-size:14px\;"><span style="font-family:arial\;">&nbsp\;- Financial Planning<br />\n- HR essentials<br />\n- Communications<br />\n- Estate Planning<br />\n- Managing Stress &amp\; Work Life Balance<br />\n- The Importance of Social Media/Strategy&nbsp\;<br />\n- AI\, Apps &amp\; Beyond: Digital Toolkit for Success<br />\n- Accounting/Taxes<br />\n- Business Strategies/Organizational Change<br />\n- Leadership<br />\n-&nbsp\;<span style="background: white\;">Menopause in the Workplace</span><br />\n- Real Estate<br />\n- IP - Intellectual Property<br />\n<br />\nPlus more workshops being added.<br />\n<br />\nAnd new this year - a lifestyle/wellness tent with The Bra Lounge\, Three Broke Sisters &amp\; Prairie Soap Shack.<br />\n<br />\nAs well\, there will be a reception after with cocktail/mocktail sampling and stellar networking opportunities.<br />\n<br />\nRegistration is open - we can&#39\;t wait to welcome you to to this event.</span></span>
LOCATION:Red Deer Polytechnic Arts Centre
UID:e.2585.414
SEQUENCE:3
DTSTAMP:20260423T104702Z
URL:https://business.reddeerchamber.com/events/details/women-leading-change-2024-414
END:VEVENT

END:VCALENDAR
